BEGIN:VCALENDAR
VERSION:2.0
PRODID:-//BLÜMELS – Café &amp; Weihnachtsbäume in Moisburg - ECPv6.7.1//NONSGML v1.0//EN
CALSCALE:GREGORIAN
METHOD:PUBLISH
X-ORIGINAL-URL:https://www.bluemels.de
X-WR-CALDESC:Veranstaltungen für BLÜMELS – Café &amp; Weihnachtsbäume in Moisburg
REFRESH-INTERVAL;VALUE=DURATION:PT1H
X-Robots-Tag:noindex
X-PUBLISHED-TTL:PT1H
BEGIN:VTIMEZONE
TZID:Europe/Berlin
BEGIN:DAYLIGHT
TZOFFSETFROM:+0100
TZOFFSETTO:+0200
TZNAME:CEST
DTSTART:20260329T010000
END:DAYLIGHT
BEGIN:STANDARD
TZOFFSETFROM:+0200
TZOFFSETTO:+0100
TZNAME:CET
DTSTART:20261025T010000
END:STANDARD
END:VTIMEZONE
BEGIN:VEVENT
DTSTART;TZID=Europe/Berlin:20260425T110000
DTEND;TZID=Europe/Berlin:20260425T140000
DTSTAMP:20260420T145347
CREATED:20250528T123135Z
LAST-MODIFIED:20260318T191537Z
UID:1642-1777114800-1777125600@www.bluemels.de
SUMMARY:Aperol Frühstück
DESCRIPTION:Freut euch auf unsere Blümels Italienplatte – eine köstliche Kombination aus: \n\n\n\n🍴 Feinsten italienischen Aufschnitt-Delikatessen🧀 Einer feinen Käsevariation🍞 Frisch gebackenem Ciabatta-Brot🍅 Hausgemachtem Pesto und Marmelade \n\n\n\nDas Beste daran?Zu jeder Frühstücksplatte gibt’s:🥂 1 x Aperol Spritz🥃 1 x Frangelico Shot mit Limettenschnitz – für den perfekten Abschluss! \n\n\n\nKommt vorbei\, lasst euch verwöhnen und genießt mit uns einen herrlich entspannten Vormittag im Hofambiente – mit italienischem Flair und Blümels Liebe zum Detail. \n\n\n\nJetzt Tisch reservieren
URL:https://www.bluemels.de/events-bluemels/aperol-fruehstueck/
LOCATION:BLÜMELS\, Ruhmannshof 4\, Moisburg\, Niedersachsen\, 21647\, Deutschland
ATTACH;FMTTYPE=image/jpeg:https://www.bluemels.de/wp-content/uploads/Ohne-Titel3333.jpg
ORGANIZER;CN="BL%C3%9CMELS GmbH & Co. KG":MAILTO:info@bluemels.de
END:VEVENT
BEGIN:VEVENT
DTSTART;TZID=Europe/Berlin:20261120T090000
DTEND;TZID=Europe/Berlin:20261223T170000
DTSTAMP:20260420T145347
CREATED:20231026T151252Z
LAST-MODIFIED:20260318T191421Z
UID:1318-1795165200-1798045200@www.bluemels.de
SUMMARY:Hofcafé täglich geöffnet
DESCRIPTION:Unser Hofcafé hat ab dem 20.11. bis Weihnachten täglich für euch geöffnet! \n\n\n\nJetzt Tisch reservieren \n\n\n\nReservierungen unter cafe@bluemels.de oder telefonisch unter 04165 22389 88.Öffnungszeiten: 09:00 bis 17:00 Uhr
URL:https://www.bluemels.de/events-bluemels/hofcafe-taeglich-geoeffnet-2/
LOCATION:BLÜMELS\, Ruhmannshof 4\, Moisburg\, Niedersachsen\, 21647\, Deutschland
ATTACH;FMTTYPE=image/jpeg:https://www.bluemels.de/wp-content/uploads/Kaffee-und-Kuchenangebot.jpg
ORGANIZER;CN="BL%C3%9CMELS GmbH & Co. KG":MAILTO:info@bluemels.de
END:VEVENT
END:VCALENDAR